BEGIN:VCALENDAR
VERSION:2.0
PRODID:-//UBIMOD - ECPv6.15.20//NONSGML v1.0//EN
CALSCALE:GREGORIAN
METHOD:PUBLISH
X-ORIGINAL-URL:https://www.ubimod.it
X-WR-CALDESC:Eventi per UBIMOD
REFRESH-INTERVAL;VALUE=DURATION:PT1H
X-Robots-Tag:noindex
X-PUBLISHED-TTL:PT1H
BEGIN:VTIMEZONE
TZID:UTC
BEGIN:STANDARD
TZOFFSETFROM:+0000
TZOFFSETTO:+0000
TZNAME:UTC
DTSTART:20250101T000000
END:STANDARD
END:VTIMEZONE
BEGIN:VEVENT
DTSTART;VALUE=DATE:20260511
DTEND;VALUE=DATE:20260513
DTSTAMP:20260419T161622
CREATED:20260303T215202Z
LAST-MODIFIED:20260303T220051Z
UID:1281-1778457600-1778630399@www.ubimod.it
SUMMARY:Corso Formazione Lavoratori – Rischio Alto (Settore Edile)
DESCRIPTION:Dettagli del Corso \nIl corso è rivolto ai lavoratori di imprese edili e cantieri\, classificati come Rischio Alto. La formazione fornisce le competenze necessarie per identificare\, valutare e gestire i rischi specifici presenti in un cantiere edile. \n\nDurata Totale: 16 ore (Formazione Generale 4h + Formazione Specifica 12h).\nModalità: In aula / Videoconferenza sincrona / Presso la sede aziendale.\nDestinatari: Operai\, carpentieri\, muratori e personale di cantiere.\nValidità: 5 anni (con aggiornamento quinquennale di 6 ore).\n\nProgramma Didattico \nIl programma è suddiviso in moduli tecnici focalizzati sulle criticità del settore costruzioni: \nModulo 1: Rischi Meccanici e Fisici \n\nUtilizzo di macchine movimento terra e attrezzature di cantiere.\nRischi legati al rumore e alle vibrazioni meccaniche.\nMovimentazione manuale dei carichi e patologie correlate.\n\nModulo 2: Rischi Specifici in Edilizia \n\nLavori in quota: Uso di ponteggi\, scale e trabattelli.\nScavi e demolizioni: Prevenzione del seppellimento e crolli.\nRischio elettrico: Gestione dei quadri di cantiere e impianti temporanei.\nSostanze pericolose: Esposizione a polveri (silice)\, amianto e agenti chimici.\n\nModulo 3: DPI e Gestione Emergenze \n\nUso corretto dei DPI di III categoria (imbracature\, elmetti\, dispositivi anticaduta).\nSegnaletica di sicurezza nel cantiere stradale ed edile.\nProcedure di emergenza e primo soccorso.\n\nCertificazioni e Verifiche \nPer il rilascio dell’attestato di legge\, il percorso prevede i seguenti passaggi obbligatori: \n\nFrequenza Obbligatoria: È necessaria la presenza ad almeno il 90% delle ore totali previste.\nTest di Valutazione Intermedio: Verifiche verbali o scritte durante il percorso per monitorare l’apprendimento.\nEsame Finale: Test a risposta multipla volto a verificare le competenze acquisite sui rischi specifici.\nAttestato: Al superamento del test\, verrà rilasciato l’Attestato di Formazione\, valido su tutto il territorio nazionale ai sensi del D.Lgs. 81/08.
URL:https://www.ubimod.it/event/corso-formazione-lavoratori-rischio-alto-settore-edile/
LOCATION:Galleria Scalo\, Viale Benedetto Croce n.147\, Chieti
END:VEVENT
END:VCALENDAR